BEGIN:VCALENDAR
METHOD:PUBLISH
VERSION:2.0
CALSCALE:GREGORIAN
PRODID:-//NONSGML WPForms//NONSGML Sugar Calendar Feeds v3.11.0//EN
X-WR-CALNAME:Zoom-Saturday-Morning-Shabbat-Services
X-WR-CALDESC:Fabrangen
X-WR-TIMEZONE:America/New_York
BEGIN:VTIMEZONE
TZID:America/New_York
BEGIN:DAYLIGHT
TZOFFSETFROM:-0400
TZOFFSETTO:-0400
DTSTART:20260313T213000
TZNAME:EDT
END:DAYLIGHT
END:VTIMEZONE
BEGIN:VTIMEZONE
TZID:America/New_York
BEGIN:DAYLIGHT
TZOFFSETFROM:-0400
TZOFFSETTO:-0400
DTSTART:20260313T213000
TZNAME:EDT
END:DAYLIGHT
END:VTIMEZONE
BEGIN:VEVENT
SUMMARY:Zoom Saturday Morning Shabbat Services
DESCRIPTION:Join Fabrangen Online Via Zoom for Shabbat Services!\n\n\n\n
 ✡︎&nbsp\;&nbsp\;9:00-9:30 a.m. –&nbsp\;Meditation\n\n\n\n✡︎ &n
 bsp\;9:30-10:00 a.m.-&nbsp\;Pesukei\n\n\n\n✡︎&nbsp\;&nbsp\;10:00-10:
 30&nbsp\; a.m. –&nbsp\;&nbsp\;Shacharit\n\n\n\n✡︎&nbsp\;&nbsp\;10:
 30 a.m. –&nbsp\;&nbsp\;Torah Service&nbsp\;&nbsp\;\n\n\n\nWe welcome g
 uests who want to daven with us!\n\n\n\nPlease email the&nbsp\;Fabrangen
  Coordinator&nbsp\;BEFORE Shabbat to get the login credentials for this 
 Zoom Meeting.&nbsp\;\n\n\n\nFabrangen Zoom Shabbat Services Instruction\
 n\n\n\n\nPlease keep your microphones on&nbsp\;MUTE&nbsp\;unless you wan
 t to speak during the discussion session.\n\n\n\nThe leader will be unmu
 ted\, and you can sing along to your heart’s content in your own livin
 g room\, but muted to the rest of us.
URL;VALUE=URI:https://www.fabrangen.org/sc_recurring_event/zoom-saturday
 -morning-shabbat-services-2/
UID:urn:uuid:45a2aa87-f17a-49dc-831f-983281b900d6
STATUS:CONFIRMED
ORGANIZER:
DTSTAMP:20260421T135122Z
DTSTART;TZID=America/New_York:20260912T093000
DTEND;TZID=America/New_York:20260912T120000
RRULE:FREQ=WEEKLY;INTERVAL=1;UNTIL=20261226T235959Z
END:VEVENT
END:VCALENDAR